BEGIN:VCALENDAR
VERSION:2.0
PRODID:-//David Simard - ECPv5.16.0//NONSGML v1.0//EN
CALSCALE:GREGORIAN
METHOD:PUBLISH
X-WR-CALNAME:David Simard
X-ORIGINAL-URL:http://www.davidsimard.fr
X-WR-CALDESC:évènements pour David Simard
BEGIN:VTIMEZONE
TZID:Europe/Paris
BEGIN:DAYLIGHT
TZOFFSETFROM:+0100
TZOFFSETTO:+0200
TZNAME:CEST
DTSTART:20180325T010000
END:DAYLIGHT
BEGIN:STANDARD
TZOFFSETFROM:+0200
TZOFFSETTO:+0100
TZNAME:CET
DTSTART:20181028T010000
END:STANDARD
END:VTIMEZONE
BEGIN:VEVENT
DTSTART;TZID=Europe/Paris:20180321T170000
DTEND;TZID=Europe/Paris:20180323T160000
DTSTAMP:20260424T064204
CREATED:20180226T183833Z
LAST-MODIFIED:20180321T064418Z
UID:553-1521651600-1521820800@www.davidsimard.fr
SUMMARY:Sexologie et idéologie à l'âge de l'institutionnalisation (1960-2000)
DESCRIPTION:Colloque international au Centre interdisciplinaire d’étude des religions et de la laïcité (CIERL) de l’Université Libre de Bruxelles (ULB). \nLa sexologie entretient de multiples rapports avec l’idéologie. Ayant pour objet la sexualité\, la sexologie est un ensemble de savoirs et de pratiques ayant vocation à réguler et/ou à transformer l’ordre social en définissant les normes prévalant dans l’intimité. Elle est\, à ce titre\, un outil puissant pour les idéologies. Elle véhicule des savoirs et met en œuvre des pratiques en adéquation avec des doctrines\, des systèmes de pensée ou des dogmes. Cette question des rapports entre sexologie et idéologie apparaît particulièrement pertinente dans le contexte de l’après Seconde Guerre mondiale. L’histoire de la sexologie est alors marquée\, dans son processus de professionnalisation et d’institutionnalisation\, par des rapports aux idéologies qui sont indispensables à sa compréhension. Ce colloque international interroge les rapports entretenus par la sexologie avec les idéologies sous cinq angles : \n\nLe catholicisme : que fait le(s) catholicisme(s) à la et de la sexologie ?\nLa « révolution sexuelle »\, les mouvements d’émancipation (dont les féminismes et les mouvements LGBTQIA+) et les savoirs sexologiques : quels usages et quelles critiques\nL’institutionnalisation et le rapport à la science : quelles épistémologies pour des savoirs aux origines militantes ou fortement marquées idéologiquement ?\nLa guerre froide : comment les savoirs sexologiques ont-ils été marqués et ont-ils servi comme armes idéologiques ?\nLa décolonisation : les savoirs sexologiques ont-ils seulement été décolonisés ou bien ont-ils simplement mutés ?\n\nProgramme \n\n	Similaire
URL:http://www.davidsimard.fr/event/sexologie-ideologie-a-lage-de-linstitutionnalisation-1960-2000/
LOCATION:CIERL – ULB\, Avenue F.D. Roosevelt\, 17\, Bruxelles\, 1000\, Belgium
CATEGORIES:Colloque
ATTACH;FMTTYPE=image/jpeg:http://www.davidsimard.fr/wp-content/uploads/2018/02/Sexo-Bruxelles.jpg
END:VEVENT
END:VCALENDAR